BEGIN:VCALENDAR
PRODID:-//eluceo/ical//2.0/EN
VERSION:2.0
CALSCALE:GREGORIAN
BEGIN:VEVENT
UID:469c0e68eb9a671f78c762d75056a3f4
DTSTAMP:20260421T090206Z
SUMMARY:Vortragsmeeting: Patrick Avato
DESCRIPTION:Website: https://www.radissonhotels.com/en-us/hotels/radisson-b
 lu-vienna?cid=a%3Ase+b%3Agmb+c%3Aemea+i%3Alocal+e%3Ardb+d%3Acese+h%3AATVIE
 STY\nSpeaker(s): Patrick Avato
URL:https://wien-graben.rotaract.at/en/agenda/show/142373
DTSTART;TZID=Europe/Zurich:20251127T190000
DTEND;TZID=Europe/Zurich:20251127T210000
LOCATION:Radisson Blu\, Herrengasse 12\, 1010 Wien\, Österreich
CATEGORIES:Rotaract
END:VEVENT
BEGIN:VTIMEZONE
TZID:Europe/Zurich
BEGIN:STANDARD
DTSTART:20251127T190000
TZNAME:CET
TZOFFSETTO:+0100
TZOFFSETFROM:+0100
END:STANDARD
END:VTIMEZONE
END:VCALENDAR
